BEGIN:VCALENDAR
VERSION:2.0
PRODID:-//Phoenix Holocaust Association - ECPv6.15.13//NONSGML v1.0//EN
CALSCALE:GREGORIAN
METHOD:PUBLISH
X-WR-CALNAME:Phoenix Holocaust Association
X-ORIGINAL-URL:https://phxha.com
X-WR-CALDESC:Events for Phoenix Holocaust Association
REFRESH-INTERVAL;VALUE=DURATION:PT1H
X-Robots-Tag:noindex
X-PUBLISHED-TTL:PT1H
BEGIN:VTIMEZONE
TZID:America/Phoenix
BEGIN:STANDARD
TZOFFSETFROM:-0700
TZOFFSETTO:-0700
TZNAME:MST
DTSTART:20220101T000000
END:STANDARD
END:VTIMEZONE
BEGIN:VEVENT
DTSTART;TZID=America/Phoenix:20230403T170000
DTEND;TZID=America/Phoenix:20230403T190000
DTSTAMP:20260421T200432
CREATED:20230308T234204Z
LAST-MODIFIED:20230320T184431Z
UID:4940-1680541200-1680548400@phxha.com
SUMMARY:David de Jong talks about his book\, Nazi Billionaires:  The Dark History of Germany’s Wealthiest Dynasties
DESCRIPTION:Please join us for an online discussion with author David de Jong on Monday April 3\, 2023 5 pm MST (8 pm EST\, 7 pm CST) \nA groundbreaking investigation of how Germany’s wealthiest men helped the Nazis grab power and how the Nazis helped German tycoons make billions off the horrors of the Third Reich and World War II. In this landmark work of investigative journalism\, David de Jong reveals the true story of how Germany’s wealthiest business dynasties amassed untold money and power by abetting the atrocities of the Third Reich. De Jong shows how these tycoons seized Jewish businesses\, procured slave laborers\, and ramped up weapons production to equip Hitler’s army as Europe burned around them. The brutal legacy of the dynasties that dominated Daimler-Benz\, cofounded Allianz\, and still control Porsche\, Volkswagen\, and BMW has remained hidden in plain sight. \nRegistration: https://tinyurl.com/m32fe35e 
URL:https://phxha.com/events/david-de-jong-talks-about-his-book-nazi-billionaires-the-dark-history-of-germanys-wealthiest-dynasties/
CATEGORIES:Virtual Event
ATTACH;FMTTYPE=image/jpeg:https://phxha.com/wp-content/uploads/2023/03/David-De-Jong-.jpg
END:VEVENT
BEGIN:VEVENT
DTSTART;TZID=America/Phoenix:20230416T150000
DTEND;TZID=America/Phoenix:20230416T170000
DTSTAMP:20260421T200432
CREATED:20220831T164607Z
LAST-MODIFIED:20230329T191307Z
UID:4473-1681657200-1681664400@phxha.com
SUMMARY:Yom HaShoah Commemoration 2023
DESCRIPTION:  \nPhoenix Holocaust Association Invites the Community to\nHolocaust Remembrance\nYom HaShoah Commemoration\nNissan 25\, 5783 \nSunday\, April 16 at 3 pm\nCongregation Beth Israel\n10460 N 56th St\, Scottsdale\, AZ 85253\nRegistration: https://phoenixhsa.formstack.com/forms/2023_yom_hashoah_rsvp \nWe will honor the memory of those who perished during the Holocaust and recognize those who survived. Visitors will select one of two concurrent sessions which will be followed by a commemoration program including a procession of survivors\, candle lighting in memory of the 6 million\, presenting the Shofar Zakhor Awards to recognize those who educate the community about the Holocaust\, and musical pieces organized by Cantor Seth Ettinger. \nConcurrent sessions preceding program:\nMaking an Emotional Connection to the Holocaust: Reflections of local survivors\nor\nClose Quarters: Victims and Perpetrators Sharing the Kitchen in Postwar Germany\nMargarete Myers Feinstein\, PhD\, Loyola Marymount University \n*Click Link to Download Flyer \nCommunity wide Yom HaShoah flyer white
URL:https://phxha.com/events/yom-hashoah-commemoration/
LOCATION:Congregation Beth Israel\, 10460 N 56th St\, Scottsdale\, AZ\, 85253
CATEGORIES:In Person Events,Virtual Event
END:VEVENT
END:VCALENDAR