BEGIN:VCALENDAR
VERSION:2.0
PRODID:-//Phoenix Holocaust Association - ECPv6.15.13//NONSGML v1.0//EN
CALSCALE:GREGORIAN
METHOD:PUBLISH
X-ORIGINAL-URL:https://phxha.com
X-WR-CALDESC:Events for Phoenix Holocaust Association
REFRESH-INTERVAL;VALUE=DURATION:PT1H
X-Robots-Tag:noindex
X-PUBLISHED-TTL:PT1H
BEGIN:VTIMEZONE
TZID:America/Phoenix
BEGIN:STANDARD
TZOFFSETFROM:-0700
TZOFFSETTO:-0700
TZNAME:MST
DTSTART:20230101T000000
END:STANDARD
END:VTIMEZONE
BEGIN:VEVENT
DTSTART;VALUE=DATE:20241225
DTEND;VALUE=DATE:20241226
DTSTAMP:20260420T053955
CREATED:20210805T233343Z
LAST-MODIFIED:20210805T233343Z
UID:2309-1735084800-1735171199@phxha.com
SUMMARY:Chanukah: 1 Candle
DESCRIPTION:Hanukkah; the Jewish festival of rededication
URL:https://phxha.com/events/chanukah-1-candle-5/
CATEGORIES:Jewish Holidays
END:VEVENT
BEGIN:VEVENT
DTSTART;VALUE=DATE:20241226
DTEND;VALUE=DATE:20241227
DTSTAMP:20260420T053955
CREATED:20210805T233343Z
LAST-MODIFIED:20210805T233343Z
UID:2310-1735171200-1735257599@phxha.com
SUMMARY:Chanukah: 2 Candles
DESCRIPTION:Hanukkah; the Jewish festival of rededication
URL:https://phxha.com/events/chanukah-2-candles-5/
CATEGORIES:Jewish Holidays
END:VEVENT
BEGIN:VEVENT
DTSTART;VALUE=DATE:20241227
DTEND;VALUE=DATE:20241228
DTSTAMP:20260420T053955
CREATED:20210805T233344Z
LAST-MODIFIED:20210805T233344Z
UID:2311-1735257600-1735343999@phxha.com
SUMMARY:Chanukah: 3 Candles
DESCRIPTION:Hanukkah; the Jewish festival of rededication
URL:https://phxha.com/events/chanukah-3-candles-5/
CATEGORIES:Jewish Holidays
END:VEVENT
BEGIN:VEVENT
DTSTART;VALUE=DATE:20241228
DTEND;VALUE=DATE:20241229
DTSTAMP:20260420T053955
CREATED:20210805T233546Z
LAST-MODIFIED:20210805T233546Z
UID:2312-1735344000-1735430399@phxha.com
SUMMARY:Chanukah: 4 Candles
DESCRIPTION:Hanukkah; the Jewish festival of rededication
URL:https://phxha.com/events/chanukah-4-candles-5/
CATEGORIES:Jewish Holidays
END:VEVENT
BEGIN:VEVENT
DTSTART;VALUE=DATE:20241229
DTEND;VALUE=DATE:20241230
DTSTAMP:20260420T053955
CREATED:20210805T233546Z
LAST-MODIFIED:20210805T233546Z
UID:2313-1735430400-1735516799@phxha.com
SUMMARY:Chanukah: 5 Candles
DESCRIPTION:Hanukkah; the Jewish festival of rededication
URL:https://phxha.com/events/chanukah-5-candles-5/
CATEGORIES:Jewish Holidays
END:VEVENT
BEGIN:VEVENT
DTSTART;VALUE=DATE:20241230
DTEND;VALUE=DATE:20241231
DTSTAMP:20260420T053955
CREATED:20210805T233546Z
LAST-MODIFIED:20210805T233546Z
UID:2314-1735516800-1735603199@phxha.com
SUMMARY:Chanukah: 6 Candles
DESCRIPTION:Hanukkah; the Jewish festival of rededication
URL:https://phxha.com/events/chanukah-6-candles-5/
CATEGORIES:Jewish Holidays
END:VEVENT
BEGIN:VEVENT
DTSTART;VALUE=DATE:20241231
DTEND;VALUE=DATE:20250101
DTSTAMP:20260420T053955
CREATED:20210805T233546Z
LAST-MODIFIED:20210805T233546Z
UID:2315-1735603200-1735689599@phxha.com
SUMMARY:Chanukah: 7 Candles
DESCRIPTION:Hanukkah; the Jewish festival of rededication
URL:https://phxha.com/events/chanukah-7-candles-5/
CATEGORIES:Jewish Holidays
END:VEVENT
END:VCALENDAR