BEGIN:VCALENDAR
VERSION:2.0
PRODID:-//Phoenix Holocaust Association - ECPv6.15.13//NONSGML v1.0//EN
CALSCALE:GREGORIAN
METHOD:PUBLISH
X-ORIGINAL-URL:https://phxha.com
X-WR-CALDESC:Events for Phoenix Holocaust Association
REFRESH-INTERVAL;VALUE=DURATION:PT1H
X-Robots-Tag:noindex
X-PUBLISHED-TTL:PT1H
BEGIN:VTIMEZONE
TZID:America/Phoenix
BEGIN:STANDARD
TZOFFSETFROM:-0700
TZOFFSETTO:-0700
TZNAME:MST
DTSTART:20210101T000000
END:STANDARD
END:VTIMEZONE
BEGIN:VEVENT
DTSTART;VALUE=DATE:20221004
DTEND;VALUE=DATE:20221005
DTSTAMP:20260422T020817
CREATED:20210805T225705Z
LAST-MODIFIED:20210805T225705Z
UID:2221-1664841600-1664927999@phxha.com
SUMMARY:Erev Yom Kippur
DESCRIPTION:Day of Atonement
URL:https://phxha.com/events/erev-yom-kippur-3/
CATEGORIES:Jewish Holidays
END:VEVENT
BEGIN:VEVENT
DTSTART;VALUE=DATE:20221005
DTEND;VALUE=DATE:20221006
DTSTAMP:20260422T020817
CREATED:20210805T225905Z
LAST-MODIFIED:20210805T225905Z
UID:2222-1664928000-1665014399@phxha.com
SUMMARY:Yom Kippur
DESCRIPTION:Day of Atonement
URL:https://phxha.com/events/yom-kippur-3/
CATEGORIES:Jewish Holidays
END:VEVENT
BEGIN:VEVENT
DTSTART;VALUE=DATE:20221009
DTEND;VALUE=DATE:20221010
DTSTAMP:20260422T020817
CREATED:20210805T225905Z
LAST-MODIFIED:20210805T225905Z
UID:2223-1665273600-1665359999@phxha.com
SUMMARY:Erev Sukkot
DESCRIPTION:Feast of Booths
URL:https://phxha.com/events/erev-sukkot-3/
CATEGORIES:Jewish Holidays
END:VEVENT
BEGIN:VEVENT
DTSTART;VALUE=DATE:20221010
DTEND;VALUE=DATE:20221011
DTSTAMP:20260422T020817
CREATED:20210805T225905Z
LAST-MODIFIED:20210805T225905Z
UID:2224-1665360000-1665446399@phxha.com
SUMMARY:Sukkot I
DESCRIPTION:Feast of Booths
URL:https://phxha.com/events/sukkot-i-3/
CATEGORIES:Jewish Holidays
END:VEVENT
BEGIN:VEVENT
DTSTART;VALUE=DATE:20221011
DTEND;VALUE=DATE:20221012
DTSTAMP:20260422T020817
CREATED:20210805T225905Z
LAST-MODIFIED:20210805T225905Z
UID:2225-1665446400-1665532799@phxha.com
SUMMARY:Sukkot II
DESCRIPTION:Feast of Booths
URL:https://phxha.com/events/sukkot-ii-3/
CATEGORIES:Jewish Holidays
END:VEVENT
BEGIN:VEVENT
DTSTART;VALUE=DATE:20221012
DTEND;VALUE=DATE:20221013
DTSTAMP:20260422T020817
CREATED:20210805T225905Z
LAST-MODIFIED:20210805T225905Z
UID:2226-1665532800-1665619199@phxha.com
SUMMARY:Sukkot III (CH''M)
DESCRIPTION:Feast of Booths
URL:https://phxha.com/events/sukkot-iii-chm-3/
CATEGORIES:Jewish Holidays
END:VEVENT
BEGIN:VEVENT
DTSTART;VALUE=DATE:20221013
DTEND;VALUE=DATE:20221014
DTSTAMP:20260422T020817
CREATED:20210805T230107Z
LAST-MODIFIED:20210805T230107Z
UID:2227-1665619200-1665705599@phxha.com
SUMMARY:Sukkot IV (CH''M)
DESCRIPTION:Feast of Booths
URL:https://phxha.com/events/sukkot-iv-chm-3/
CATEGORIES:Jewish Holidays
END:VEVENT
BEGIN:VEVENT
DTSTART;VALUE=DATE:20221014
DTEND;VALUE=DATE:20221015
DTSTAMP:20260422T020817
CREATED:20210805T230107Z
LAST-MODIFIED:20210805T230107Z
UID:2228-1665705600-1665791999@phxha.com
SUMMARY:Sukkot V (CH''M)
DESCRIPTION:Feast of Booths
URL:https://phxha.com/events/sukkot-v-chm-3/
CATEGORIES:Jewish Holidays
END:VEVENT
BEGIN:VEVENT
DTSTART;VALUE=DATE:20221015
DTEND;VALUE=DATE:20221016
DTSTAMP:20260422T020817
CREATED:20210805T230107Z
LAST-MODIFIED:20210805T230107Z
UID:2229-1665792000-1665878399@phxha.com
SUMMARY:Sukkot VI (CH''M)
DESCRIPTION:Feast of Booths
URL:https://phxha.com/events/sukkot-vi-chm-3/
CATEGORIES:Jewish Holidays
END:VEVENT
BEGIN:VEVENT
DTSTART;VALUE=DATE:20221016
DTEND;VALUE=DATE:20221017
DTSTAMP:20260422T020817
CREATED:20210805T230107Z
LAST-MODIFIED:20210805T230107Z
UID:2230-1665878400-1665964799@phxha.com
SUMMARY:Sukkot VII (Hoshana Raba)
DESCRIPTION:Feast of Booths
URL:https://phxha.com/events/sukkot-vii-hoshana-raba-3/
CATEGORIES:Jewish Holidays
END:VEVENT
BEGIN:VEVENT
DTSTART;VALUE=DATE:20221017
DTEND;VALUE=DATE:20221018
DTSTAMP:20260422T020817
CREATED:20210805T230107Z
LAST-MODIFIED:20210805T230107Z
UID:2231-1665964800-1666051199@phxha.com
SUMMARY:Shmini Atzeret
DESCRIPTION:Eighth Day of Assembly
URL:https://phxha.com/events/shmini-atzeret-3/
CATEGORIES:Jewish Holidays
END:VEVENT
BEGIN:VEVENT
DTSTART;VALUE=DATE:20221018
DTEND;VALUE=DATE:20221019
DTSTAMP:20260422T020817
CREATED:20210805T230308Z
LAST-MODIFIED:20210805T230308Z
UID:2232-1666051200-1666137599@phxha.com
SUMMARY:Simchat Torah
DESCRIPTION:Day of Celebrating the Torah
URL:https://phxha.com/events/simchat-torah-3/
CATEGORIES:Jewish Holidays
END:VEVENT
END:VCALENDAR