BEGIN:VCALENDAR
VERSION:2.0
PRODID:-//Phoenix Holocaust Association - ECPv6.15.13//NONSGML v1.0//EN
CALSCALE:GREGORIAN
METHOD:PUBLISH
X-ORIGINAL-URL:https://phxha.com
X-WR-CALDESC:Events for Phoenix Holocaust Association
REFRESH-INTERVAL;VALUE=DURATION:PT1H
X-Robots-Tag:noindex
X-PUBLISHED-TTL:PT1H
BEGIN:VTIMEZONE
TZID:America/Phoenix
BEGIN:STANDARD
TZOFFSETFROM:-0700
TZOFFSETTO:-0700
TZNAME:MST
DTSTART:20210101T000000
END:STANDARD
END:VTIMEZONE
BEGIN:VEVENT
DTSTART;VALUE=DATE:20220415
DTEND;VALUE=DATE:20220416
DTSTAMP:20260422T131421
CREATED:20210805T210403Z
LAST-MODIFIED:20210805T210403Z
UID:2203-1649980800-1650067199@phxha.com
SUMMARY:Erev Pesach
DESCRIPTION:Passover; the Feast of Unleavened Bread
URL:https://phxha.com/events/erev-pesach-3/
CATEGORIES:Jewish Holidays
END:VEVENT
BEGIN:VEVENT
DTSTART;VALUE=DATE:20220416
DTEND;VALUE=DATE:20220417
DTSTAMP:20260422T131421
CREATED:20210805T210403Z
LAST-MODIFIED:20210805T210403Z
UID:2204-1650067200-1650153599@phxha.com
SUMMARY:Pesach I
DESCRIPTION:Passover; the Feast of Unleavened Bread
URL:https://phxha.com/events/pesach-i-3/
CATEGORIES:Jewish Holidays
END:VEVENT
BEGIN:VEVENT
DTSTART;VALUE=DATE:20220417
DTEND;VALUE=DATE:20220418
DTSTAMP:20260422T131421
CREATED:20210805T210403Z
LAST-MODIFIED:20210805T210403Z
UID:2205-1650153600-1650239999@phxha.com
SUMMARY:Pesach II
DESCRIPTION:Passover; the Feast of Unleavened Bread
URL:https://phxha.com/events/pesach-ii-3/
CATEGORIES:Jewish Holidays
END:VEVENT
BEGIN:VEVENT
DTSTART;VALUE=DATE:20220418
DTEND;VALUE=DATE:20220419
DTSTAMP:20260422T131421
CREATED:20210805T210603Z
LAST-MODIFIED:20210805T210603Z
UID:2206-1650240000-1650326399@phxha.com
SUMMARY:Pesach III (CH''M)
DESCRIPTION:Passover; the Feast of Unleavened Bread
URL:https://phxha.com/events/pesach-iii-chm-3/
CATEGORIES:Jewish Holidays
END:VEVENT
BEGIN:VEVENT
DTSTART;VALUE=DATE:20220419
DTEND;VALUE=DATE:20220420
DTSTAMP:20260422T131421
CREATED:20210805T210603Z
LAST-MODIFIED:20210805T210603Z
UID:2207-1650326400-1650412799@phxha.com
SUMMARY:Pesach IV (CH''M)
DESCRIPTION:Passover; the Feast of Unleavened Bread
URL:https://phxha.com/events/pesach-iv-chm-3/
CATEGORIES:Jewish Holidays
END:VEVENT
BEGIN:VEVENT
DTSTART;VALUE=DATE:20220420
DTEND;VALUE=DATE:20220421
DTSTAMP:20260422T131421
CREATED:20210805T210604Z
LAST-MODIFIED:20210805T210604Z
UID:2208-1650412800-1650499199@phxha.com
SUMMARY:Pesach V (CH''M)
DESCRIPTION:Passover; the Feast of Unleavened Bread
URL:https://phxha.com/events/pesach-v-chm-3/
CATEGORIES:Jewish Holidays
END:VEVENT
BEGIN:VEVENT
DTSTART;VALUE=DATE:20220421
DTEND;VALUE=DATE:20220422
DTSTAMP:20260422T131421
CREATED:20210805T210604Z
LAST-MODIFIED:20210805T210604Z
UID:2209-1650499200-1650585599@phxha.com
SUMMARY:Pesach VI (CH''M)
DESCRIPTION:Passover; the Feast of Unleavened Bread
URL:https://phxha.com/events/pesach-vi-chm-3/
CATEGORIES:Jewish Holidays
END:VEVENT
BEGIN:VEVENT
DTSTART;VALUE=DATE:20220422
DTEND;VALUE=DATE:20220423
DTSTAMP:20260422T131421
CREATED:20210805T210604Z
LAST-MODIFIED:20210805T210604Z
UID:2210-1650585600-1650671999@phxha.com
SUMMARY:Pesach VII
DESCRIPTION:Passover; the Feast of Unleavened Bread
URL:https://phxha.com/events/pesach-vii-3/
CATEGORIES:Jewish Holidays
END:VEVENT
BEGIN:VEVENT
DTSTART;VALUE=DATE:20220423
DTEND;VALUE=DATE:20220424
DTSTAMP:20260422T131421
CREATED:20210805T225508Z
LAST-MODIFIED:20210805T225508Z
UID:2212-1650672000-1650758399@phxha.com
SUMMARY:Pesach VIII
DESCRIPTION:Passover; the Feast of Unleavened Bread
URL:https://phxha.com/events/pesach-viii-3/
CATEGORIES:Jewish Holidays
END:VEVENT
END:VCALENDAR