BEGIN:VCALENDAR
VERSION:2.0
PRODID:-//Phoenix Holocaust Association - ECPv6.15.13//NONSGML v1.0//EN
CALSCALE:GREGORIAN
METHOD:PUBLISH
X-ORIGINAL-URL:https://phxha.com
X-WR-CALDESC:Events for Phoenix Holocaust Association
REFRESH-INTERVAL;VALUE=DURATION:PT1H
X-Robots-Tag:noindex
X-PUBLISHED-TTL:PT1H
BEGIN:VTIMEZONE
TZID:America/Phoenix
BEGIN:STANDARD
TZOFFSETFROM:-0700
TZOFFSETTO:-0700
TZNAME:MST
DTSTART:20190101T000000
END:STANDARD
END:VTIMEZONE
BEGIN:VEVENT
DTSTART;VALUE=DATE:20201210
DTEND;VALUE=DATE:20201211
DTSTAMP:20260423T175944
CREATED:20210805T205436Z
LAST-MODIFIED:20210805T205436Z
UID:2156-1607558400-1607644799@phxha.com
SUMMARY:Chanukah: 1 Candle
DESCRIPTION:Hanukkah; the Jewish festival of rededication
URL:https://phxha.com/events/chanukah-1-candle/
CATEGORIES:Jewish Holidays
END:VEVENT
BEGIN:VEVENT
DTSTART;VALUE=DATE:20201211
DTEND;VALUE=DATE:20201212
DTSTAMP:20260423T175944
CREATED:20210805T205436Z
LAST-MODIFIED:20210805T205436Z
UID:2157-1607644800-1607731199@phxha.com
SUMMARY:Chanukah: 2 Candles
DESCRIPTION:Hanukkah; the Jewish festival of rededication
URL:https://phxha.com/events/chanukah-2-candles/
CATEGORIES:Jewish Holidays
END:VEVENT
BEGIN:VEVENT
DTSTART;VALUE=DATE:20201212
DTEND;VALUE=DATE:20201213
DTSTAMP:20260423T175944
CREATED:20210805T205436Z
LAST-MODIFIED:20210805T205436Z
UID:2158-1607731200-1607817599@phxha.com
SUMMARY:Chanukah: 3 Candles
DESCRIPTION:Hanukkah; the Jewish festival of rededication
URL:https://phxha.com/events/chanukah-3-candles/
CATEGORIES:Jewish Holidays
END:VEVENT
BEGIN:VEVENT
DTSTART;VALUE=DATE:20201213
DTEND;VALUE=DATE:20201214
DTSTAMP:20260423T175944
CREATED:20210805T205436Z
LAST-MODIFIED:20210805T205436Z
UID:2159-1607817600-1607903999@phxha.com
SUMMARY:Chanukah: 4 Candles
DESCRIPTION:Hanukkah; the Jewish festival of rededication
URL:https://phxha.com/events/chanukah-4-candles/
CATEGORIES:Jewish Holidays
END:VEVENT
BEGIN:VEVENT
DTSTART;VALUE=DATE:20201214
DTEND;VALUE=DATE:20201215
DTSTAMP:20260423T175944
CREATED:20210805T205436Z
LAST-MODIFIED:20210805T205436Z
UID:2160-1607904000-1607990399@phxha.com
SUMMARY:Chanukah: 5 Candles
DESCRIPTION:Hanukkah; the Jewish festival of rededication
URL:https://phxha.com/events/chanukah-5-candles/
CATEGORIES:Jewish Holidays
END:VEVENT
BEGIN:VEVENT
DTSTART;VALUE=DATE:20201215
DTEND;VALUE=DATE:20201216
DTSTAMP:20260423T175944
CREATED:20210805T205450Z
LAST-MODIFIED:20210805T205450Z
UID:2161-1607990400-1608076799@phxha.com
SUMMARY:Chanukah: 6 Candles
DESCRIPTION:Hanukkah; the Jewish festival of rededication
URL:https://phxha.com/events/chanukah-6-candles/
CATEGORIES:Jewish Holidays
END:VEVENT
BEGIN:VEVENT
DTSTART;VALUE=DATE:20201216
DTEND;VALUE=DATE:20201217
DTSTAMP:20260423T175944
CREATED:20210805T205450Z
LAST-MODIFIED:20210805T205450Z
UID:2162-1608076800-1608163199@phxha.com
SUMMARY:Chanukah: 7 Candles
DESCRIPTION:Hanukkah; the Jewish festival of rededication
URL:https://phxha.com/events/chanukah-7-candles/
CATEGORIES:Jewish Holidays
END:VEVENT
BEGIN:VEVENT
DTSTART;VALUE=DATE:20201217
DTEND;VALUE=DATE:20201218
DTSTAMP:20260423T175944
CREATED:20210805T205450Z
LAST-MODIFIED:20210805T205450Z
UID:2163-1608163200-1608249599@phxha.com
SUMMARY:Chanukah: 8 Candles
DESCRIPTION:Hanukkah; the Jewish festival of rededication
URL:https://phxha.com/events/chanukah-8-candles/
CATEGORIES:Jewish Holidays
END:VEVENT
END:VCALENDAR